BEGIN:VCALENDAR
VERSION:2.0
PRODID:-//Tukios.com/
BEGIN:VEVENT
UID:aae7a873-0e38-4f0c-99ff-85b2295aa63b@www.stanleyedenburn.com
DTSTAMP:20260425T015817Z
DTSTART:20260502T150000Z
DTEND:20260502T160000Z
SUMMARY:Visitation
DESCRIPTION:
URL:https://www.stanleyedenburn.com/obituaries/howard-ezell
LOCATION:Stanley Edenburn Funeral Home 203 N. Armstrong Street  Pleasant 
	Hill MO 64080
GEO:38.7877023;-94.2672907
END:VEVENT
END:VCALENDAR