BEGIN:VCALENDAR
VERSION:2.0
PRODID:-//Tukios.com/
BEGIN:VEVENT
UID:b9abd09e-56f8-4103-a53c-9dbcb54f1f6c@www.stanleyedenburn.com
DTSTAMP:20260425T015623Z
DTSTART:20260502T160000Z
DTEND:20260502T170000Z
SUMMARY:Funeral Service
DESCRIPTION:
URL:https://www.stanleyedenburn.com/obituaries/howard-ezell
LOCATION:Stanley Edenburn Funeral Home 203 N. Armstrong Street  Pleasant 
	Hill MO 64080
GEO:38.7877023;-94.2672907
END:VEVENT
END:VCALENDAR